Package: ivygapSE Version: 1.20.0 Command: /Library/Frameworks/R.framework/Resources/bin/R CMD INSTALL ivygapSE StartedAt: 2023-04-16 18:41:07 -0400 (Sun, 16 Apr 2023) EndedAt: 2023-04-16 18:41:39 -0400 (Sun, 16 Apr 2023) EllapsedTime: 31.3 seconds RetCode: 0 Status: OK