Package: lfa Version: 1.28.2 Command: rm -rf lfa.buildbin-libdir && mkdir lfa.buildbin-libdir && /Users/biocbuild/BBS/utils/build-universal.sh lfa_1.28.2.tar.gz /Library/Frameworks/R.framework/Resources/bin/R lfa.buildbin-libdir StartedAt: 2023-04-18 16:48:19 -0400 (Tue, 18 Apr 2023) EndedAt: 2023-04-18 16:48:30 -0400 (Tue, 18 Apr 2023) EllapsedTime: 10.9 seconds RetCode: 0 Status: OK PackageFile: lfa_1.28.2.tgz PackageFileSize: 437.9 KiB