Package: lpsymphony Version: 1.26.3 Command: rm -rf lpsymphony.buildbin-libdir && mkdir lpsymphony.buildbin-libdir && /Users/biocbuild/BBS/utils/build-universal.sh lpsymphony_1.26.3.tar.gz /Library/Frameworks/R.framework/Resources/bin/R lpsymphony.buildbin-libdir StartedAt: 2023-04-18 16:51:28 -0400 (Tue, 18 Apr 2023) EndedAt: 2023-04-18 17:16:20 -0400 (Tue, 18 Apr 2023) EllapsedTime: 1491.1 seconds RetCode: 0 Status: OK PackageFile: lpsymphony_1.26.3.tgz PackageFileSize: 1.907 MiB