Package: lpsymphony Version: 1.26.3 Command: /Library/Frameworks/R.framework/Resources/bin/R CMD INSTALL lpsymphony StartedAt: 2023-04-16 14:04:47 -0400 (Sun, 16 Apr 2023) EndedAt: 2023-04-16 14:20:20 -0400 (Sun, 16 Apr 2023) EllapsedTime: 932.2 seconds RetCode: 0 Status: OK