Package: mAPKL Version: 1.28.0 Command: rm -rf mAPKL.buildbin-libdir && mkdir mAPKL.buildbin-libdir && /Users/biocbuild/BBS/utils/build-universal.sh mAPKL_1.28.0.tar.gz /Library/Frameworks/R.framework/Resources/bin/R mAPKL.buildbin-libdir StartedAt: 2023-04-18 16:56:09 -0400 (Tue, 18 Apr 2023) EndedAt: 2023-04-18 16:57:01 -0400 (Tue, 18 Apr 2023) EllapsedTime: 52.0 seconds RetCode: 0 Status: OK PackageFile: mAPKL_1.28.0.tgz PackageFileSize: 1.804 MiB