Package: mAPKL Version: 1.28.0 Command: /Library/Frameworks/R.framework/Resources/bin/R CMD build --keep-empty-dirs --no-resave-data mAPKL StartedAt: 2023-04-17 13:00:57 -0400 (Mon, 17 Apr 2023) EndedAt: 2023-04-17 13:03:57 -0400 (Mon, 17 Apr 2023) EllapsedTime: 179.9 seconds RetCode: 0 Status: OK PackageFile: mAPKL_1.28.0.tar.gz PackageFileSize: 1.953 MiB