Package: mbOmic Version: 1.2.0 Command: rm -rf mbOmic.buildbin-libdir && mkdir mbOmic.buildbin-libdir && /Users/biocbuild/BBS/utils/build-universal.sh mbOmic_1.2.0.tar.gz /Library/Frameworks/R.framework/Resources/bin/R mbOmic.buildbin-libdir StartedAt: 2023-04-18 16:59:51 -0400 (Tue, 18 Apr 2023) EndedAt: 2023-04-18 17:00:47 -0400 (Tue, 18 Apr 2023) EllapsedTime: 56.4 seconds RetCode: 0 Status: OK PackageFile: mbOmic_1.2.0.tgz PackageFileSize: 752.7 KiB