Package: mbOmic Version: 1.2.0 Command: /Library/Frameworks/R.framework/Resources/bin/R CMD build --keep-empty-dirs --no-resave-data mbOmic StartedAt: 2023-04-17 13:15:24 -0400 (Mon, 17 Apr 2023) EndedAt: 2023-04-17 13:16:22 -0400 (Mon, 17 Apr 2023) EllapsedTime: 58.3 seconds RetCode: 0 Status: OK PackageFile: mbOmic_1.2.0.tar.gz PackageFileSize: 471.8 KiB