Package: mbOmic Version: 1.2.0 Command: /Library/Frameworks/R.framework/Resources/bin/R CMD INSTALL mbOmic StartedAt: 2023-04-16 17:54:29 -0400 (Sun, 16 Apr 2023) EndedAt: 2023-04-16 17:55:07 -0400 (Sun, 16 Apr 2023) EllapsedTime: 37.9 seconds RetCode: 0 Status: OK