Package: mbkmeans
Version: 1.14.0
Command: rm -rf mbkmeans.buildbin-libdir && mkdir mbkmeans.buildbin-libdir && /Users/biocbuild/BBS/utils/build-universal.sh mbkmeans_1.14.0.tar.gz /Library/Frameworks/R.framework/Resources/bin/R mbkmeans.buildbin-libdir
StartedAt: 2023-04-18 16:59:41 -0400 (Tue, 18 Apr 2023)
EndedAt: 2023-04-18 17:01:30 -0400 (Tue, 18 Apr 2023)
EllapsedTime: 109.5 seconds
RetCode: 0
Status: OK
PackageFile: mbkmeans_1.14.0.tgz
PackageFileSize: 426.1 <A href="http://en.wikipedia.org/wiki/KiB" target="_blank">KiB</A>