Package: metaMS
Version: 1.34.0
Command: rm -rf metaMS.buildbin-libdir && mkdir metaMS.buildbin-libdir && /Users/biocbuild/BBS/utils/build-universal.sh metaMS_1.34.0.tar.gz /Library/Frameworks/R.framework/Resources/bin/R metaMS.buildbin-libdir
StartedAt: 2023-04-18 17:06:37 -0400 (Tue, 18 Apr 2023)
EndedAt: 2023-04-18 17:08:24 -0400 (Tue, 18 Apr 2023)
EllapsedTime: 107.6 seconds
RetCode: 0
Status: OK
PackageFile: metaMS_1.34.0.tgz
PackageFileSize: 4.25 <A href="http://en.wikipedia.org/wiki/MiB" target="_blank">MiB</A>