Package: metabCombiner Version: 1.8.0 Command: /Library/Frameworks/R.framework/Resources/bin/R CMD build --keep-empty-dirs --no-resave-data metabCombiner StartedAt: 2023-04-17 13:38:38 -0400 (Mon, 17 Apr 2023) EndedAt: 2023-04-17 13:39:20 -0400 (Mon, 17 Apr 2023) EllapsedTime: 42.1 seconds RetCode: 0 Status: OK PackageFile: metabCombiner_1.8.0.tar.gz PackageFileSize: 2.537 MiB