Package: metabomxtr Version: 1.32.0 Command: /Library/Frameworks/R.framework/Resources/bin/R CMD INSTALL metabomxtr StartedAt: 2023-04-16 15:38:56 -0400 (Sun, 16 Apr 2023) EndedAt: 2023-04-16 15:39:15 -0400 (Sun, 16 Apr 2023) EllapsedTime: 19.3 seconds RetCode: 0 Status: OK