Package: metaseqR2 Version: 1.10.0 Command: /Library/Frameworks/R.framework/Resources/bin/R CMD INSTALL metaseqR2 StartedAt: 2023-04-16 18:59:36 -0400 (Sun, 16 Apr 2023) EndedAt: 2023-04-16 19:01:25 -0400 (Sun, 16 Apr 2023) EllapsedTime: 108.7 seconds RetCode: 0 Status: OK