Package: methylMnM Version: 1.36.0 Command: /Library/Frameworks/R.framework/Resources/bin/R CMD build --keep-empty-dirs --no-resave-data methylMnM StartedAt: 2023-04-17 14:53:13 -0400 (Mon, 17 Apr 2023) EndedAt: 2023-04-17 14:54:37 -0400 (Mon, 17 Apr 2023) EllapsedTime: 84.0 seconds RetCode: 0 Status: OK PackageFile: methylMnM_1.36.0.tar.gz PackageFileSize: 8.51 MiB