Package: miRBaseConverter Version: 1.22.0 Command: rm -rf miRBaseConverter.buildbin-libdir && mkdir miRBaseConverter.buildbin-libdir && /Users/biocbuild/BBS/utils/build-universal.sh miRBaseConverter_1.22.0.tar.gz /Library/Frameworks/R.framework/Resources/bin/R miRBaseConverter.buildbin-libdir StartedAt: 2023-04-18 17:21:35 -0400 (Tue, 18 Apr 2023) EndedAt: 2023-04-18 17:22:16 -0400 (Tue, 18 Apr 2023) EllapsedTime: 41.0 seconds RetCode: 0 Status: OK PackageFile: miRBaseConverter_1.22.0.tgz PackageFileSize: 1.984 MiB