Package: miRLAB Version: 1.28.0 Command: rm -rf miRLAB.buildbin-libdir && mkdir miRLAB.buildbin-libdir && /Users/biocbuild/BBS/utils/build-universal.sh miRLAB_1.28.0.tar.gz /Library/Frameworks/R.framework/Resources/bin/R miRLAB.buildbin-libdir StartedAt: 2023-04-18 17:22:04 -0400 (Tue, 18 Apr 2023) EndedAt: 2023-04-18 17:23:30 -0400 (Tue, 18 Apr 2023) EllapsedTime: 85.8 seconds RetCode: 0 Status: OK PackageFile: miRLAB_1.28.0.tgz PackageFileSize: 303.2 KiB