Package: miRLAB Version: 1.28.0 Command: /Library/Frameworks/R.framework/Resources/bin/R CMD build --keep-empty-dirs --no-resave-data miRLAB StartedAt: 2023-04-17 15:30:16 -0400 (Mon, 17 Apr 2023) EndedAt: 2023-04-17 15:31:00 -0400 (Mon, 17 Apr 2023) EllapsedTime: 44.2 seconds RetCode: 0 Status: OK PackageFile: miRLAB_1.28.0.tar.gz PackageFileSize: 192.2 KiB