Package: miRLAB Version: 1.28.0 Command: /Library/Frameworks/R.framework/Resources/bin/R CMD INSTALL miRLAB StartedAt: 2023-04-16 17:53:53 -0400 (Sun, 16 Apr 2023) EndedAt: 2023-04-16 17:54:51 -0400 (Sun, 16 Apr 2023) EllapsedTime: 58.0 seconds RetCode: 0 Status: OK