Package: mina Version: 1.6.0 Command: rm -rf mina.buildbin-libdir && mkdir mina.buildbin-libdir && /Users/biocbuild/BBS/utils/build-universal.sh mina_1.6.0.tar.gz /Library/Frameworks/R.framework/Resources/bin/R mina.buildbin-libdir StartedAt: 2023-04-18 17:19:21 -0400 (Tue, 18 Apr 2023) EndedAt: 2023-04-18 17:20:59 -0400 (Tue, 18 Apr 2023) EllapsedTime: 98.7 seconds RetCode: 0 Status: OK PackageFile: mina_1.6.0.tgz PackageFileSize: 7.661 MiB