Package: mina Version: 1.6.0 Command: /Library/Frameworks/R.framework/Resources/bin/R CMD INSTALL mina StartedAt: 2023-04-16 14:59:01 -0400 (Sun, 16 Apr 2023) EndedAt: 2023-04-16 15:00:00 -0400 (Sun, 16 Apr 2023) EllapsedTime: 59.1 seconds RetCode: 0 Status: OK