Package: minfi Version: 1.44.0 Command: rm -rf minfi.buildbin-libdir && mkdir minfi.buildbin-libdir && /Users/biocbuild/BBS/utils/build-universal.sh minfi_1.44.0.tar.gz /Library/Frameworks/R.framework/Resources/bin/R minfi.buildbin-libdir StartedAt: 2023-04-18 17:19:59 -0400 (Tue, 18 Apr 2023) EndedAt: 2023-04-18 17:22:19 -0400 (Tue, 18 Apr 2023) EllapsedTime: 140.1 seconds RetCode: 0 Status: OK PackageFile: minfi_1.44.0.tgz PackageFileSize: 1.516 MiB