Package: minfi Version: 1.44.0 Command: /Library/Frameworks/R.framework/Resources/bin/R CMD build --keep-empty-dirs --no-resave-data minfi StartedAt: 2023-04-17 15:24:37 -0400 (Mon, 17 Apr 2023) EndedAt: 2023-04-17 15:26:46 -0400 (Mon, 17 Apr 2023) EllapsedTime: 128.9 seconds RetCode: 0 Status: OK PackageFile: minfi_1.44.0.tar.gz PackageFileSize: 493.3 KiB