Package: missMethyl Version: 1.32.1 Command: rm -rf missMethyl.buildbin-libdir && mkdir missMethyl.buildbin-libdir && /Users/biocbuild/BBS/utils/build-universal.sh missMethyl_1.32.1.tar.gz /Library/Frameworks/R.framework/Resources/bin/R missMethyl.buildbin-libdir StartedAt: 2023-04-18 17:23:05 -0400 (Tue, 18 Apr 2023) EndedAt: 2023-04-18 17:34:33 -0400 (Tue, 18 Apr 2023) EllapsedTime: 687.7 seconds RetCode: 0 Status: OK PackageFile: missMethyl_1.32.1.tgz PackageFileSize: 1.372 MiB