Package: missMethyl Version: 1.32.1 Command: /Library/Frameworks/R.framework/Resources/bin/R CMD build --keep-empty-dirs --no-resave-data missMethyl StartedAt: 2023-04-17 15:38:19 -0400 (Mon, 17 Apr 2023) EndedAt: 2023-04-17 16:02:41 -0400 (Mon, 17 Apr 2023) EllapsedTime: 1462.5 seconds RetCode: 0 Status: OK PackageFile: missMethyl_1.32.1.tar.gz PackageFileSize: 1.269 MiB