Package: missMethyl Version: 1.32.1 Command: /Library/Frameworks/R.framework/Resources/bin/R CMD INSTALL missMethyl StartedAt: 2023-04-16 18:21:04 -0400 (Sun, 16 Apr 2023) EndedAt: 2023-04-16 18:29:05 -0400 (Sun, 16 Apr 2023) EllapsedTime: 481.0 seconds RetCode: 0 Status: OK