Package: missRows Version: 1.18.0 Command: /Library/Frameworks/R.framework/Resources/bin/R CMD build --keep-empty-dirs --no-resave-data missRows StartedAt: 2023-04-17 15:39:07 -0400 (Mon, 17 Apr 2023) EndedAt: 2023-04-17 15:41:08 -0400 (Mon, 17 Apr 2023) EllapsedTime: 120.4 seconds RetCode: 0 Status: OK PackageFile: missRows_1.18.0.tar.gz PackageFileSize: 608.6 KiB