git_url: https://git.bioconductor.org/packages/mitch git_branch: RELEASE_3_16 git_last_commit: 5873999 git_last_commit_date: 2022-11-01 11:21:02 -0400 (Tue, 01 Nov 2022) Package: mitch Version: 1.10.0 Maintainer: Mark Ziemann MaintainerEmail: mark.ziemann at gmail.com