Package: mitch Version: 1.10.0 Command: rm -rf mitch.buildbin-libdir && mkdir mitch.buildbin-libdir && /Users/biocbuild/BBS/utils/build-universal.sh mitch_1.10.0.tar.gz /Library/Frameworks/R.framework/Resources/bin/R mitch.buildbin-libdir StartedAt: 2023-04-18 17:23:32 -0400 (Tue, 18 Apr 2023) EndedAt: 2023-04-18 17:23:50 -0400 (Tue, 18 Apr 2023) EllapsedTime: 18.7 seconds RetCode: 0 Status: OK PackageFile: mitch_1.10.0.tgz PackageFileSize: 521.4 KiB