Package: mitch Version: 1.10.0 Command: /Library/Frameworks/R.framework/Resources/bin/R CMD INSTALL mitch StartedAt: 2023-04-16 15:29:41 -0400 (Sun, 16 Apr 2023) EndedAt: 2023-04-16 15:29:54 -0400 (Sun, 16 Apr 2023) EllapsedTime: 12.8 seconds RetCode: 0 Status: OK