Package: mitoClone2
Version: 1.4.0
Command: /Library/Frameworks/R.framework/Resources/bin/R CMD INSTALL mitoClone2
StartedAt: 2023-04-16 16:43:59 -0400 (Sun, 16 Apr 2023)
EndedAt: 2023-04-16 16:45:34 -0400 (Sun, 16 Apr 2023)
EllapsedTime: 95.1 seconds
RetCode: 0
Status: OK