Package: monaLisa Version: 1.4.0 Command: /Library/Frameworks/R.framework/Resources/bin/R CMD build --keep-empty-dirs --no-resave-data monaLisa StartedAt: 2023-04-17 16:12:28 -0400 (Mon, 17 Apr 2023) EndedAt: 2023-04-17 16:17:49 -0400 (Mon, 17 Apr 2023) EllapsedTime: 320.7 seconds RetCode: 0 Status: OK PackageFile: monaLisa_1.4.0.tar.gz PackageFileSize: 4.95 MiB