Package: mosbi Version: 1.4.0 Command: rm -rf mosbi.buildbin-libdir && mkdir mosbi.buildbin-libdir && /Users/biocbuild/BBS/utils/build-universal.sh mosbi_1.4.0.tar.gz /Library/Frameworks/R.framework/Resources/bin/R mosbi.buildbin-libdir StartedAt: 2023-04-18 17:30:07 -0400 (Tue, 18 Apr 2023) EndedAt: 2023-04-18 17:33:08 -0400 (Tue, 18 Apr 2023) EllapsedTime: 181.6 seconds RetCode: 0 Status: OK PackageFile: mosbi_1.4.0.tgz PackageFileSize: 2.638 MiB