############################################################################## ############################################################################## ### ### Running command: ### ### /Library/Frameworks/R.framework/Resources/bin/R CMD INSTALL mosbi ### ############################################################################## ############################################################################## * installing to library ‘/Library/Frameworks/R.framework/Versions/4.2-arm64/Resources/library’ * installing *source* package ‘mosbi’ ... ** using staged installation ** libs clang++ -arch arm64 -std=gnu++17 -I"/Library/Frameworks/R.framework/Resources/include" -DNDEBUG -I'/Library/Frameworks/R.framework/Versions/4.2-arm64/Resources/library/Rcpp/include' -I'/Library/Frameworks/R.framework/Versions/4.2-arm64/Resources/library/BH/include' -I'/Library/Frameworks/R.framework/Versions/4.2-arm64/Resources/library/RcppParallel/include' -I/opt/R/arm64/include -fPIC -falign-functions=64 -Wall -g -O2 -c RcppExports.cpp -o RcppExports.o In file included from RcppExports.cpp:4: In file included from /Library/Frameworks/R.framework/Versions/4.2-arm64/Resources/library/Rcpp/include/Rcpp.h:27: In file included from /Library/Frameworks/R.framework/Versions/4.2-arm64/Resources/library/Rcpp/include/RcppCommon.h:168: /Library/Frameworks/R.framework/Versions/4.2-arm64/Resources/library/Rcpp/include/Rcpp/internal/r_coerce.h:255:7: warning: 'sprintf' is deprecated: This function is provided for compatibility reasons only. Due to security concerns inherent in the design of sprintf(3), it is highly recommended that you use snprintf(3) instead. [-Wdeprecated-declarations] ::sprintf(buff, "%02x", from); ^ /Library/Developer/CommandLineTools/SDKs/MacOSX.sdk/usr/include/stdio.h:188:1: note: 'sprintf' has been explicitly marked deprecated here __deprecated_msg("This function is provided for compatibility reasons only. Due to security concerns inherent in the design of sprintf(3), it is highly recommended that you use snprintf(3) instead.") ^ /Library/Developer/CommandLineTools/SDKs/MacOSX.sdk/usr/include/sys/cdefs.h:215:48: note: expanded from macro '__deprecated_msg' #define __deprecated_msg(_msg) __attribute__((__deprecated__(_msg))) ^ 1 warning generated. clang++ -arch arm64 -std=gnu++17 -I"/Library/Frameworks/R.framework/Resources/include" -DNDEBUG -I'/Library/Frameworks/R.framework/Versions/4.2-arm64/Resources/library/Rcpp/include' -I'/Library/Frameworks/R.framework/Versions/4.2-arm64/Resources/library/BH/include' -I'/Library/Frameworks/R.framework/Versions/4.2-arm64/Resources/library/RcppParallel/include' -I/opt/R/arm64/include -fPIC -falign-functions=64 -Wall -g -O2 -c attr_graph.cpp -o attr_graph.o In file included from attr_graph.cpp:1: In file included from /Library/Frameworks/R.framework/Versions/4.2-arm64/Resources/library/Rcpp/include/Rcpp.h:27: In file included from /Library/Frameworks/R.framework/Versions/4.2-arm64/Resources/library/Rcpp/include/RcppCommon.h:168: /Library/Frameworks/R.framework/Versions/4.2-arm64/Resources/library/Rcpp/include/Rcpp/internal/r_coerce.h:255:7: warning: 'sprintf' is deprecated: This function is provided for compatibility reasons only. Due to security concerns inherent in the design of sprintf(3), it is highly recommended that you use snprintf(3) instead. [-Wdeprecated-declarations] ::sprintf(buff, "%02x", from); ^ /Library/Developer/CommandLineTools/SDKs/MacOSX.sdk/usr/include/stdio.h:188:1: note: 'sprintf' has been explicitly marked deprecated here __deprecated_msg("This function is provided for compatibility reasons only. Due to security concerns inherent in the design of sprintf(3), it is highly recommended that you use snprintf(3) instead.") ^ /Library/Developer/CommandLineTools/SDKs/MacOSX.sdk/usr/include/sys/cdefs.h:215:48: note: expanded from macro '__deprecated_msg' #define __deprecated_msg(_msg) __attribute__((__deprecated__(_msg))) ^ 1 warning generated. clang++ -arch arm64 -std=gnu++17 -I"/Library/Frameworks/R.framework/Resources/include" -DNDEBUG -I'/Library/Frameworks/R.framework/Versions/4.2-arm64/Resources/library/Rcpp/include' -I'/Library/Frameworks/R.framework/Versions/4.2-arm64/Resources/library/BH/include' -I'/Library/Frameworks/R.framework/Versions/4.2-arm64/Resources/library/RcppParallel/include' -I/opt/R/arm64/include -fPIC -falign-functions=64 -Wall -g -O2 -c attributeConnector.cpp -o attributeConnector.o In file included from attributeConnector.cpp:1: In file included from /Library/Frameworks/R.framework/Versions/4.2-arm64/Resources/library/Rcpp/include/Rcpp.h:27: In file included from /Library/Frameworks/R.framework/Versions/4.2-arm64/Resources/library/Rcpp/include/RcppCommon.h:168: /Library/Frameworks/R.framework/Versions/4.2-arm64/Resources/library/Rcpp/include/Rcpp/internal/r_coerce.h:255:7: warning: 'sprintf' is deprecated: This function is provided for compatibility reasons only. Due to security concerns inherent in the design of sprintf(3), it is highly recommended that you use snprintf(3) instead. [-Wdeprecated-declarations] ::sprintf(buff, "%02x", from); ^ /Library/Developer/CommandLineTools/SDKs/MacOSX.sdk/usr/include/stdio.h:188:1: note: 'sprintf' has been explicitly marked deprecated here __deprecated_msg("This function is provided for compatibility reasons only. Due to security concerns inherent in the design of sprintf(3), it is highly recommended that you use snprintf(3) instead.") ^ /Library/Developer/CommandLineTools/SDKs/MacOSX.sdk/usr/include/sys/cdefs.h:215:48: note: expanded from macro '__deprecated_msg' #define __deprecated_msg(_msg) __attribute__((__deprecated__(_msg))) ^ 1 warning generated. clang++ -arch arm64 -std=gnu++17 -I"/Library/Frameworks/R.framework/Resources/include" -DNDEBUG -I'/Library/Frameworks/R.framework/Versions/4.2-arm64/Resources/library/Rcpp/include' -I'/Library/Frameworks/R.framework/Versions/4.2-arm64/Resources/library/BH/include' -I'/Library/Frameworks/R.framework/Versions/4.2-arm64/Resources/library/RcppParallel/include' -I/opt/R/arm64/include -fPIC -falign-functions=64 -Wall -g -O2 -c attribute_overlap.cpp -o attribute_overlap.o In file included from attribute_overlap.cpp:1: In file included from /Library/Frameworks/R.framework/Versions/4.2-arm64/Resources/library/Rcpp/include/Rcpp.h:27: In file included from /Library/Frameworks/R.framework/Versions/4.2-arm64/Resources/library/Rcpp/include/RcppCommon.h:168: /Library/Frameworks/R.framework/Versions/4.2-arm64/Resources/library/Rcpp/include/Rcpp/internal/r_coerce.h:255:7: warning: 'sprintf' is deprecated: This function is provided for compatibility reasons only. Due to security concerns inherent in the design of sprintf(3), it is highly recommended that you use snprintf(3) instead. [-Wdeprecated-declarations] ::sprintf(buff, "%02x", from); ^ /Library/Developer/CommandLineTools/SDKs/MacOSX.sdk/usr/include/stdio.h:188:1: note: 'sprintf' has been explicitly marked deprecated here __deprecated_msg("This function is provided for compatibility reasons only. Due to security concerns inherent in the design of sprintf(3), it is highly recommended that you use snprintf(3) instead.") ^ /Library/Developer/CommandLineTools/SDKs/MacOSX.sdk/usr/include/sys/cdefs.h:215:48: note: expanded from macro '__deprecated_msg' #define __deprecated_msg(_msg) __attribute__((__deprecated__(_msg))) ^ 1 warning generated. clang++ -arch arm64 -std=gnu++17 -I"/Library/Frameworks/R.framework/Resources/include" -DNDEBUG -I'/Library/Frameworks/R.framework/Versions/4.2-arm64/Resources/library/Rcpp/include' -I'/Library/Frameworks/R.framework/Versions/4.2-arm64/Resources/library/BH/include' -I'/Library/Frameworks/R.framework/Versions/4.2-arm64/Resources/library/RcppParallel/include' -I/opt/R/arm64/include -fPIC -falign-functions=64 -Wall -g -O2 -c bicluster_methods.cpp -o bicluster_methods.o In file included from bicluster_methods.cpp:3: In file included from /Library/Frameworks/R.framework/Versions/4.2-arm64/Resources/library/Rcpp/include/Rcpp.h:27: In file included from /Library/Frameworks/R.framework/Versions/4.2-arm64/Resources/library/Rcpp/include/RcppCommon.h:168: /Library/Frameworks/R.framework/Versions/4.2-arm64/Resources/library/Rcpp/include/Rcpp/internal/r_coerce.h:255:7: warning: 'sprintf' is deprecated: This function is provided for compatibility reasons only. Due to security concerns inherent in the design of sprintf(3), it is highly recommended that you use snprintf(3) instead. [-Wdeprecated-declarations] ::sprintf(buff, "%02x", from); ^ /Library/Developer/CommandLineTools/SDKs/MacOSX.sdk/usr/include/stdio.h:188:1: note: 'sprintf' has been explicitly marked deprecated here __deprecated_msg("This function is provided for compatibility reasons only. Due to security concerns inherent in the design of sprintf(3), it is highly recommended that you use snprintf(3) instead.") ^ /Library/Developer/CommandLineTools/SDKs/MacOSX.sdk/usr/include/sys/cdefs.h:215:48: note: expanded from macro '__deprecated_msg' #define __deprecated_msg(_msg) __attribute__((__deprecated__(_msg))) ^ bicluster_methods.cpp:130:18: warning: loop variable 'i' of type 'const int &' binds to a temporary constructed from type 'double &' [-Wrange-loop-construct] for(const int& i : row1){ ^ bicluster_methods.cpp:130:7: note: use non-reference type 'int' to make construction explicit or type 'const double &' to prevent copying for(const int& i : row1){ ^~~~~~~~~~~~~~ bicluster_methods.cpp:137:18: warning: loop variable 'j' of type 'const int &' binds to a temporary constructed from type 'double &' [-Wrange-loop-construct] for(const int& j : col1){ ^ bicluster_methods.cpp:137:7: note: use non-reference type 'int' to make construction explicit or type 'const double &' to prevent copying for(const int& j : col1){ ^~~~~~~~~~~~~~ 3 warnings generated. clang++ -arch arm64 -std=gnu++17 -I"/Library/Frameworks/R.framework/Resources/include" -DNDEBUG -I'/Library/Frameworks/R.framework/Versions/4.2-arm64/Resources/library/Rcpp/include' -I'/Library/Frameworks/R.framework/Versions/4.2-arm64/Resources/library/BH/include' -I'/Library/Frameworks/R.framework/Versions/4.2-arm64/Resources/library/RcppParallel/include' -I/opt/R/arm64/include -fPIC -falign-functions=64 -Wall -g -O2 -c boost_graph.cpp -o boost_graph.o In file included from boost_graph.cpp:2: In file included from /Library/Frameworks/R.framework/Versions/4.2-arm64/Resources/library/BH/include/boost/graph/adjacency_list.hpp:20: In file included from /Library/Frameworks/R.framework/Versions/4.2-arm64/Resources/library/BH/include/boost/unordered_set.hpp:17: In file included from /Library/Frameworks/R.framework/Versions/4.2-arm64/Resources/library/BH/include/boost/unordered/unordered_set.hpp:20: In file included from /Library/Frameworks/R.framework/Versions/4.2-arm64/Resources/library/BH/include/boost/unordered/detail/set.hpp:6: In file included from /Library/Frameworks/R.framework/Versions/4.2-arm64/Resources/library/BH/include/boost/unordered/detail/implementation.hpp:30: In file included from /Library/Frameworks/R.framework/Versions/4.2-arm64/Resources/library/BH/include/boost/throw_exception.hpp:24: /Library/Frameworks/R.framework/Versions/4.2-arm64/Resources/library/BH/include/boost/assert/source_location.hpp:75:14: warning: 'sprintf' is deprecated: This function is provided for compatibility reasons only. Due to security concerns inherent in the design of sprintf(3), it is highly recommended that you use snprintf(3) instead. [-Wdeprecated-declarations] std::sprintf( buffer, ":%ld", static_cast( line() ) ); ^ /Library/Developer/CommandLineTools/SDKs/MacOSX.sdk/usr/include/stdio.h:188:1: note: 'sprintf' has been explicitly marked deprecated here __deprecated_msg("This function is provided for compatibility reasons only. Due to security concerns inherent in the design of sprintf(3), it is highly recommended that you use snprintf(3) instead.") ^ /Library/Developer/CommandLineTools/SDKs/MacOSX.sdk/usr/include/sys/cdefs.h:215:48: note: expanded from macro '__deprecated_msg' #define __deprecated_msg(_msg) __attribute__((__deprecated__(_msg))) ^ In file included from boost_graph.cpp:2: In file included from /Library/Frameworks/R.framework/Versions/4.2-arm64/Resources/library/BH/include/boost/graph/adjacency_list.hpp:20: In file included from /Library/Frameworks/R.framework/Versions/4.2-arm64/Resources/library/BH/include/boost/unordered_set.hpp:17: In file included from /Library/Frameworks/R.framework/Versions/4.2-arm64/Resources/library/BH/include/boost/unordered/unordered_set.hpp:20: In file included from /Library/Frameworks/R.framework/Versions/4.2-arm64/Resources/library/BH/include/boost/unordered/detail/set.hpp:6: In file included from /Library/Frameworks/R.framework/Versions/4.2-arm64/Resources/library/BH/include/boost/unordered/detail/implementation.hpp:30: In file included from /Library/Frameworks/R.framework/Versions/4.2-arm64/Resources/library/BH/include/boost/throw_exception.hpp:24: /Library/Frameworks/R.framework/Versions/4.2-arm64/Resources/library/BH/include/boost/assert/source_location.hpp:80:18: warning: 'sprintf' is deprecated: This function is provided for compatibility reasons only. Due to security concerns inherent in the design of sprintf(3), it is highly recommended that you use snprintf(3) instead. [-Wdeprecated-declarations] std::sprintf( buffer, ":%ld", static_cast( column() ) ); ^ /Library/Developer/CommandLineTools/SDKs/MacOSX.sdk/usr/include/stdio.h:188:1: note: 'sprintf' has been explicitly marked deprecated here __deprecated_msg("This function is provided for compatibility reasons only. Due to security concerns inherent in the design of sprintf(3), it is highly recommended that you use snprintf(3) instead.") ^ /Library/Developer/CommandLineTools/SDKs/MacOSX.sdk/usr/include/sys/cdefs.h:215:48: note: expanded from macro '__deprecated_msg' #define __deprecated_msg(_msg) __attribute__((__deprecated__(_msg))) ^ In file included from boost_graph.cpp:3: In file included from /Library/Frameworks/R.framework/Versions/4.2-arm64/Resources/library/BH/include/boost/graph/graphml.hpp:16: In file included from /Library/Frameworks/R.framework/Versions/4.2-arm64/Resources/library/BH/include/boost/lexical_cast.hpp:32: In file included from /Library/Frameworks/R.framework/Versions/4.2-arm64/Resources/library/BH/include/boost/lexical_cast/try_lexical_convert.hpp:44: In file included from /Library/Frameworks/R.framework/Versions/4.2-arm64/Resources/library/BH/include/boost/lexical_cast/detail/converter_lexical.hpp:54: /Library/Frameworks/R.framework/Versions/4.2-arm64/Resources/library/BH/include/boost/lexical_cast/detail/converter_lexical_streams.hpp:285:21: warning: 'sprintf' is deprecated: This function is provided for compatibility reasons only. Due to security concerns inherent in the design of sprintf(3), it is highly recommended that you use snprintf(3) instead. [-Wdeprecated-declarations] sprintf(begin, ^ /Library/Developer/CommandLineTools/SDKs/MacOSX.sdk/usr/include/stdio.h:188:1: note: 'sprintf' has been explicitly marked deprecated here __deprecated_msg("This function is provided for compatibility reasons only. Due to security concerns inherent in the design of sprintf(3), it is highly recommended that you use snprintf(3) instead.") ^ /Library/Developer/CommandLineTools/SDKs/MacOSX.sdk/usr/include/sys/cdefs.h:215:48: note: expanded from macro '__deprecated_msg' #define __deprecated_msg(_msg) __attribute__((__deprecated__(_msg))) ^ In file included from boost_graph.cpp:3: In file included from /Library/Frameworks/R.framework/Versions/4.2-arm64/Resources/library/BH/include/boost/graph/graphml.hpp:16: In file included from /Library/Frameworks/R.framework/Versions/4.2-arm64/Resources/library/BH/include/boost/lexical_cast.hpp:32: In file included from /Library/Frameworks/R.framework/Versions/4.2-arm64/Resources/library/BH/include/boost/lexical_cast/try_lexical_convert.hpp:44: In file included from /Library/Frameworks/R.framework/Versions/4.2-arm64/Resources/library/BH/include/boost/lexical_cast/detail/converter_lexical.hpp:54: /Library/Frameworks/R.framework/Versions/4.2-arm64/Resources/library/BH/include/boost/lexical_cast/detail/converter_lexical_streams.hpp:297:21: warning: 'sprintf' is deprecated: This function is provided for compatibility reasons only. Due to security concerns inherent in the design of sprintf(3), it is highly recommended that you use snprintf(3) instead. [-Wdeprecated-declarations] sprintf(begin, ^ /Library/Developer/CommandLineTools/SDKs/MacOSX.sdk/usr/include/stdio.h:188:1: note: 'sprintf' has been explicitly marked deprecated here __deprecated_msg("This function is provided for compatibility reasons only. Due to security concerns inherent in the design of sprintf(3), it is highly recommended that you use snprintf(3) instead.") ^ /Library/Developer/CommandLineTools/SDKs/MacOSX.sdk/usr/include/sys/cdefs.h:215:48: note: expanded from macro '__deprecated_msg' #define __deprecated_msg(_msg) __attribute__((__deprecated__(_msg))) ^ In file included from boost_graph.cpp:3: In file included from /Library/Frameworks/R.framework/Versions/4.2-arm64/Resources/library/BH/include/boost/graph/graphml.hpp:16: In file included from /Library/Frameworks/R.framework/Versions/4.2-arm64/Resources/library/BH/include/boost/lexical_cast.hpp:32: In file included from /Library/Frameworks/R.framework/Versions/4.2-arm64/Resources/library/BH/include/boost/lexical_cast/try_lexical_convert.hpp:44: In file included from /Library/Frameworks/R.framework/Versions/4.2-arm64/Resources/library/BH/include/boost/lexical_cast/detail/converter_lexical.hpp:54: /Library/Frameworks/R.framework/Versions/4.2-arm64/Resources/library/BH/include/boost/lexical_cast/detail/converter_lexical_streams.hpp:310:21: warning: 'sprintf' is deprecated: This function is provided for compatibility reasons only. Due to security concerns inherent in the design of sprintf(3), it is highly recommended that you use snprintf(3) instead. [-Wdeprecated-declarations] sprintf(begin, ^ /Library/Developer/CommandLineTools/SDKs/MacOSX.sdk/usr/include/stdio.h:188:1: note: 'sprintf' has been explicitly marked deprecated here __deprecated_msg("This function is provided for compatibility reasons only. Due to security concerns inherent in the design of sprintf(3), it is highly recommended that you use snprintf(3) instead.") ^ /Library/Developer/CommandLineTools/SDKs/MacOSX.sdk/usr/include/sys/cdefs.h:215:48: note: expanded from macro '__deprecated_msg' #define __deprecated_msg(_msg) __attribute__((__deprecated__(_msg))) ^ In file included from boost_graph.cpp:7: In file included from /Library/Frameworks/R.framework/Versions/4.2-arm64/Resources/library/Rcpp/include/Rcpp.h:27: In file included from /Library/Frameworks/R.framework/Versions/4.2-arm64/Resources/library/Rcpp/include/RcppCommon.h:168: /Library/Frameworks/R.framework/Versions/4.2-arm64/Resources/library/Rcpp/include/Rcpp/internal/r_coerce.h:255:7: warning: 'sprintf' is deprecated: This function is provided for compatibility reasons only. Due to security concerns inherent in the design of sprintf(3), it is highly recommended that you use snprintf(3) instead. [-Wdeprecated-declarations] ::sprintf(buff, "%02x", from); ^ /Library/Developer/CommandLineTools/SDKs/MacOSX.sdk/usr/include/stdio.h:188:1: note: 'sprintf' has been explicitly marked deprecated here __deprecated_msg("This function is provided for compatibility reasons only. Due to security concerns inherent in the design of sprintf(3), it is highly recommended that you use snprintf(3) instead.") ^ /Library/Developer/CommandLineTools/SDKs/MacOSX.sdk/usr/include/sys/cdefs.h:215:48: note: expanded from macro '__deprecated_msg' #define __deprecated_msg(_msg) __attribute__((__deprecated__(_msg))) ^ 6 warnings generated. clang++ -arch arm64 -std=gnu++17 -I"/Library/Frameworks/R.framework/Resources/include" -DNDEBUG -I'/Library/Frameworks/R.framework/Versions/4.2-arm64/Resources/library/Rcpp/include' -I'/Library/Frameworks/R.framework/Versions/4.2-arm64/Resources/library/BH/include' -I'/Library/Frameworks/R.framework/Versions/4.2-arm64/Resources/library/RcppParallel/include' -I/opt/R/arm64/include -fPIC -falign-functions=64 -Wall -g -O2 -c boost_write.cpp -o boost_write.o In file included from boost_write.cpp:2: In file included from /Library/Frameworks/R.framework/Versions/4.2-arm64/Resources/library/BH/include/boost/graph/adjacency_list.hpp:20: In file included from /Library/Frameworks/R.framework/Versions/4.2-arm64/Resources/library/BH/include/boost/unordered_set.hpp:17: In file included from /Library/Frameworks/R.framework/Versions/4.2-arm64/Resources/library/BH/include/boost/unordered/unordered_set.hpp:20: In file included from /Library/Frameworks/R.framework/Versions/4.2-arm64/Resources/library/BH/include/boost/unordered/detail/set.hpp:6: In file included from /Library/Frameworks/R.framework/Versions/4.2-arm64/Resources/library/BH/include/boost/unordered/detail/implementation.hpp:30: In file included from /Library/Frameworks/R.framework/Versions/4.2-arm64/Resources/library/BH/include/boost/throw_exception.hpp:24: /Library/Frameworks/R.framework/Versions/4.2-arm64/Resources/library/BH/include/boost/assert/source_location.hpp:75:14: warning: 'sprintf' is deprecated: This function is provided for compatibility reasons only. Due to security concerns inherent in the design of sprintf(3), it is highly recommended that you use snprintf(3) instead. [-Wdeprecated-declarations] std::sprintf( buffer, ":%ld", static_cast( line() ) ); ^ /Library/Developer/CommandLineTools/SDKs/MacOSX.sdk/usr/include/stdio.h:188:1: note: 'sprintf' has been explicitly marked deprecated here __deprecated_msg("This function is provided for compatibility reasons only. Due to security concerns inherent in the design of sprintf(3), it is highly recommended that you use snprintf(3) instead.") ^ /Library/Developer/CommandLineTools/SDKs/MacOSX.sdk/usr/include/sys/cdefs.h:215:48: note: expanded from macro '__deprecated_msg' #define __deprecated_msg(_msg) __attribute__((__deprecated__(_msg))) ^ In file included from boost_write.cpp:2: In file included from /Library/Frameworks/R.framework/Versions/4.2-arm64/Resources/library/BH/include/boost/graph/adjacency_list.hpp:20: In file included from /Library/Frameworks/R.framework/Versions/4.2-arm64/Resources/library/BH/include/boost/unordered_set.hpp:17: In file included from /Library/Frameworks/R.framework/Versions/4.2-arm64/Resources/library/BH/include/boost/unordered/unordered_set.hpp:20: In file included from /Library/Frameworks/R.framework/Versions/4.2-arm64/Resources/library/BH/include/boost/unordered/detail/set.hpp:6: In file included from /Library/Frameworks/R.framework/Versions/4.2-arm64/Resources/library/BH/include/boost/unordered/detail/implementation.hpp:30: In file included from /Library/Frameworks/R.framework/Versions/4.2-arm64/Resources/library/BH/include/boost/throw_exception.hpp:24: /Library/Frameworks/R.framework/Versions/4.2-arm64/Resources/library/BH/include/boost/assert/source_location.hpp:80:18: warning: 'sprintf' is deprecated: This function is provided for compatibility reasons only. Due to security concerns inherent in the design of sprintf(3), it is highly recommended that you use snprintf(3) instead. [-Wdeprecated-declarations] std::sprintf( buffer, ":%ld", static_cast( column() ) ); ^ /Library/Developer/CommandLineTools/SDKs/MacOSX.sdk/usr/include/stdio.h:188:1: note: 'sprintf' has been explicitly marked deprecated here __deprecated_msg("This function is provided for compatibility reasons only. Due to security concerns inherent in the design of sprintf(3), it is highly recommended that you use snprintf(3) instead.") ^ /Library/Developer/CommandLineTools/SDKs/MacOSX.sdk/usr/include/sys/cdefs.h:215:48: note: expanded from macro '__deprecated_msg' #define __deprecated_msg(_msg) __attribute__((__deprecated__(_msg))) ^ In file included from boost_write.cpp:3: In file included from /Library/Frameworks/R.framework/Versions/4.2-arm64/Resources/library/BH/include/boost/graph/graphml.hpp:16: In file included from /Library/Frameworks/R.framework/Versions/4.2-arm64/Resources/library/BH/include/boost/lexical_cast.hpp:32: In file included from /Library/Frameworks/R.framework/Versions/4.2-arm64/Resources/library/BH/include/boost/lexical_cast/try_lexical_convert.hpp:44: In file included from /Library/Frameworks/R.framework/Versions/4.2-arm64/Resources/library/BH/include/boost/lexical_cast/detail/converter_lexical.hpp:54: /Library/Frameworks/R.framework/Versions/4.2-arm64/Resources/library/BH/include/boost/lexical_cast/detail/converter_lexical_streams.hpp:285:21: warning: 'sprintf' is deprecated: This function is provided for compatibility reasons only. Due to security concerns inherent in the design of sprintf(3), it is highly recommended that you use snprintf(3) instead. [-Wdeprecated-declarations] sprintf(begin, ^ /Library/Developer/CommandLineTools/SDKs/MacOSX.sdk/usr/include/stdio.h:188:1: note: 'sprintf' has been explicitly marked deprecated here __deprecated_msg("This function is provided for compatibility reasons only. Due to security concerns inherent in the design of sprintf(3), it is highly recommended that you use snprintf(3) instead.") ^ /Library/Developer/CommandLineTools/SDKs/MacOSX.sdk/usr/include/sys/cdefs.h:215:48: note: expanded from macro '__deprecated_msg' #define __deprecated_msg(_msg) __attribute__((__deprecated__(_msg))) ^ In file included from boost_write.cpp:3: In file included from /Library/Frameworks/R.framework/Versions/4.2-arm64/Resources/library/BH/include/boost/graph/graphml.hpp:16: In file included from /Library/Frameworks/R.framework/Versions/4.2-arm64/Resources/library/BH/include/boost/lexical_cast.hpp:32: In file included from /Library/Frameworks/R.framework/Versions/4.2-arm64/Resources/library/BH/include/boost/lexical_cast/try_lexical_convert.hpp:44: In file included from /Library/Frameworks/R.framework/Versions/4.2-arm64/Resources/library/BH/include/boost/lexical_cast/detail/converter_lexical.hpp:54: /Library/Frameworks/R.framework/Versions/4.2-arm64/Resources/library/BH/include/boost/lexical_cast/detail/converter_lexical_streams.hpp:297:21: warning: 'sprintf' is deprecated: This function is provided for compatibility reasons only. Due to security concerns inherent in the design of sprintf(3), it is highly recommended that you use snprintf(3) instead. [-Wdeprecated-declarations] sprintf(begin, ^ /Library/Developer/CommandLineTools/SDKs/MacOSX.sdk/usr/include/stdio.h:188:1: note: 'sprintf' has been explicitly marked deprecated here __deprecated_msg("This function is provided for compatibility reasons only. Due to security concerns inherent in the design of sprintf(3), it is highly recommended that you use snprintf(3) instead.") ^ /Library/Developer/CommandLineTools/SDKs/MacOSX.sdk/usr/include/sys/cdefs.h:215:48: note: expanded from macro '__deprecated_msg' #define __deprecated_msg(_msg) __attribute__((__deprecated__(_msg))) ^ In file included from boost_write.cpp:3: In file included from /Library/Frameworks/R.framework/Versions/4.2-arm64/Resources/library/BH/include/boost/graph/graphml.hpp:16: In file included from /Library/Frameworks/R.framework/Versions/4.2-arm64/Resources/library/BH/include/boost/lexical_cast.hpp:32: In file included from /Library/Frameworks/R.framework/Versions/4.2-arm64/Resources/library/BH/include/boost/lexical_cast/try_lexical_convert.hpp:44: In file included from /Library/Frameworks/R.framework/Versions/4.2-arm64/Resources/library/BH/include/boost/lexical_cast/detail/converter_lexical.hpp:54: /Library/Frameworks/R.framework/Versions/4.2-arm64/Resources/library/BH/include/boost/lexical_cast/detail/converter_lexical_streams.hpp:310:21: warning: 'sprintf' is deprecated: This function is provided for compatibility reasons only. Due to security concerns inherent in the design of sprintf(3), it is highly recommended that you use snprintf(3) instead. [-Wdeprecated-declarations] sprintf(begin, ^ /Library/Developer/CommandLineTools/SDKs/MacOSX.sdk/usr/include/stdio.h:188:1: note: 'sprintf' has been explicitly marked deprecated here __deprecated_msg("This function is provided for compatibility reasons only. Due to security concerns inherent in the design of sprintf(3), it is highly recommended that you use snprintf(3) instead.") ^ /Library/Developer/CommandLineTools/SDKs/MacOSX.sdk/usr/include/sys/cdefs.h:215:48: note: expanded from macro '__deprecated_msg' #define __deprecated_msg(_msg) __attribute__((__deprecated__(_msg))) ^ In file included from boost_write.cpp:7: In file included from /Library/Frameworks/R.framework/Versions/4.2-arm64/Resources/library/Rcpp/include/Rcpp.h:27: In file included from /Library/Frameworks/R.framework/Versions/4.2-arm64/Resources/library/Rcpp/include/RcppCommon.h:168: /Library/Frameworks/R.framework/Versions/4.2-arm64/Resources/library/Rcpp/include/Rcpp/internal/r_coerce.h:255:7: warning: 'sprintf' is deprecated: This function is provided for compatibility reasons only. Due to security concerns inherent in the design of sprintf(3), it is highly recommended that you use snprintf(3) instead. [-Wdeprecated-declarations] ::sprintf(buff, "%02x", from); ^ /Library/Developer/CommandLineTools/SDKs/MacOSX.sdk/usr/include/stdio.h:188:1: note: 'sprintf' has been explicitly marked deprecated here __deprecated_msg("This function is provided for compatibility reasons only. Due to security concerns inherent in the design of sprintf(3), it is highly recommended that you use snprintf(3) instead.") ^ /Library/Developer/CommandLineTools/SDKs/MacOSX.sdk/usr/include/sys/cdefs.h:215:48: note: expanded from macro '__deprecated_msg' #define __deprecated_msg(_msg) __attribute__((__deprecated__(_msg))) ^ 6 warnings generated. clang++ -arch arm64 -std=gnu++17 -I"/Library/Frameworks/R.framework/Resources/include" -DNDEBUG -I'/Library/Frameworks/R.framework/Versions/4.2-arm64/Resources/library/Rcpp/include' -I'/Library/Frameworks/R.framework/Versions/4.2-arm64/Resources/library/BH/include' -I'/Library/Frameworks/R.framework/Versions/4.2-arm64/Resources/library/RcppParallel/include' -I/opt/R/arm64/include -fPIC -falign-functions=64 -Wall -g -O2 -c distance_matrix.cpp -o distance_matrix.o In file included from distance_matrix.cpp:3: In file included from /Library/Frameworks/R.framework/Versions/4.2-arm64/Resources/library/Rcpp/include/Rcpp.h:27: In file included from /Library/Frameworks/R.framework/Versions/4.2-arm64/Resources/library/Rcpp/include/RcppCommon.h:168: /Library/Frameworks/R.framework/Versions/4.2-arm64/Resources/library/Rcpp/include/Rcpp/internal/r_coerce.h:255:7: warning: 'sprintf' is deprecated: This function is provided for compatibility reasons only. Due to security concerns inherent in the design of sprintf(3), it is highly recommended that you use snprintf(3) instead. [-Wdeprecated-declarations] ::sprintf(buff, "%02x", from); ^ /Library/Developer/CommandLineTools/SDKs/MacOSX.sdk/usr/include/stdio.h:188:1: note: 'sprintf' has been explicitly marked deprecated here __deprecated_msg("This function is provided for compatibility reasons only. Due to security concerns inherent in the design of sprintf(3), it is highly recommended that you use snprintf(3) instead.") ^ /Library/Developer/CommandLineTools/SDKs/MacOSX.sdk/usr/include/sys/cdefs.h:215:48: note: expanded from macro '__deprecated_msg' #define __deprecated_msg(_msg) __attribute__((__deprecated__(_msg))) ^ 1 warning generated. clang++ -arch arm64 -std=gnu++17 -I"/Library/Frameworks/R.framework/Resources/include" -DNDEBUG -I'/Library/Frameworks/R.framework/Versions/4.2-arm64/Resources/library/Rcpp/include' -I'/Library/Frameworks/R.framework/Versions/4.2-arm64/Resources/library/BH/include' -I'/Library/Frameworks/R.framework/Versions/4.2-arm64/Resources/library/RcppParallel/include' -I/opt/R/arm64/include -fPIC -falign-functions=64 -Wall -g -O2 -c extractBF.cpp -o extractBF.o In file included from extractBF.cpp:2: In file included from /Library/Frameworks/R.framework/Versions/4.2-arm64/Resources/library/Rcpp/include/Rcpp.h:27: In file included from /Library/Frameworks/R.framework/Versions/4.2-arm64/Resources/library/Rcpp/include/RcppCommon.h:168: /Library/Frameworks/R.framework/Versions/4.2-arm64/Resources/library/Rcpp/include/Rcpp/internal/r_coerce.h:255:7: warning: 'sprintf' is deprecated: This function is provided for compatibility reasons only. Due to security concerns inherent in the design of sprintf(3), it is highly recommended that you use snprintf(3) instead. [-Wdeprecated-declarations] ::sprintf(buff, "%02x", from); ^ /Library/Developer/CommandLineTools/SDKs/MacOSX.sdk/usr/include/stdio.h:188:1: note: 'sprintf' has been explicitly marked deprecated here __deprecated_msg("This function is provided for compatibility reasons only. Due to security concerns inherent in the design of sprintf(3), it is highly recommended that you use snprintf(3) instead.") ^ /Library/Developer/CommandLineTools/SDKs/MacOSX.sdk/usr/include/sys/cdefs.h:215:48: note: expanded from macro '__deprecated_msg' #define __deprecated_msg(_msg) __attribute__((__deprecated__(_msg))) ^ In file included from extractBF.cpp:3: In file included from /Library/Frameworks/R.framework/Versions/4.2-arm64/Resources/library/BH/include/boost/algorithm/string.hpp:23: In file included from /Library/Frameworks/R.framework/Versions/4.2-arm64/Resources/library/BH/include/boost/algorithm/string/split.hpp:16: In file included from /Library/Frameworks/R.framework/Versions/4.2-arm64/Resources/library/BH/include/boost/algorithm/string/iter_find.hpp:27: In file included from /Library/Frameworks/R.framework/Versions/4.2-arm64/Resources/library/BH/include/boost/algorithm/string/find_iterator.hpp:24: In file included from /Library/Frameworks/R.framework/Versions/4.2-arm64/Resources/library/BH/include/boost/algorithm/string/detail/find_iterator.hpp:18: In file included from /Library/Frameworks/R.framework/Versions/4.2-arm64/Resources/library/BH/include/boost/function.hpp:30: In file included from /Library/Frameworks/R.framework/Versions/4.2-arm64/Resources/library/BH/include/boost/function/detail/prologue.hpp:15: In file included from /Library/Frameworks/R.framework/Versions/4.2-arm64/Resources/library/BH/include/boost/throw_exception.hpp:24: /Library/Frameworks/R.framework/Versions/4.2-arm64/Resources/library/BH/include/boost/assert/source_location.hpp:75:14: warning: 'sprintf' is deprecated: This function is provided for compatibility reasons only. Due to security concerns inherent in the design of sprintf(3), it is highly recommended that you use snprintf(3) instead. [-Wdeprecated-declarations] std::sprintf( buffer, ":%ld", static_cast( line() ) ); ^ /Library/Developer/CommandLineTools/SDKs/MacOSX.sdk/usr/include/stdio.h:188:1: note: 'sprintf' has been explicitly marked deprecated here __deprecated_msg("This function is provided for compatibility reasons only. Due to security concerns inherent in the design of sprintf(3), it is highly recommended that you use snprintf(3) instead.") ^ /Library/Developer/CommandLineTools/SDKs/MacOSX.sdk/usr/include/sys/cdefs.h:215:48: note: expanded from macro '__deprecated_msg' #define __deprecated_msg(_msg) __attribute__((__deprecated__(_msg))) ^ In file included from extractBF.cpp:3: In file included from /Library/Frameworks/R.framework/Versions/4.2-arm64/Resources/library/BH/include/boost/algorithm/string.hpp:23: In file included from /Library/Frameworks/R.framework/Versions/4.2-arm64/Resources/library/BH/include/boost/algorithm/string/split.hpp:16: In file included from /Library/Frameworks/R.framework/Versions/4.2-arm64/Resources/library/BH/include/boost/algorithm/string/iter_find.hpp:27: In file included from /Library/Frameworks/R.framework/Versions/4.2-arm64/Resources/library/BH/include/boost/algorithm/string/find_iterator.hpp:24: In file included from /Library/Frameworks/R.framework/Versions/4.2-arm64/Resources/library/BH/include/boost/algorithm/string/detail/find_iterator.hpp:18: In file included from /Library/Frameworks/R.framework/Versions/4.2-arm64/Resources/library/BH/include/boost/function.hpp:30: In file included from /Library/Frameworks/R.framework/Versions/4.2-arm64/Resources/library/BH/include/boost/function/detail/prologue.hpp:15: In file included from /Library/Frameworks/R.framework/Versions/4.2-arm64/Resources/library/BH/include/boost/throw_exception.hpp:24: /Library/Frameworks/R.framework/Versions/4.2-arm64/Resources/library/BH/include/boost/assert/source_location.hpp:80:18: warning: 'sprintf' is deprecated: This function is provided for compatibility reasons only. Due to security concerns inherent in the design of sprintf(3), it is highly recommended that you use snprintf(3) instead. [-Wdeprecated-declarations] std::sprintf( buffer, ":%ld", static_cast( column() ) ); ^ /Library/Developer/CommandLineTools/SDKs/MacOSX.sdk/usr/include/stdio.h:188:1: note: 'sprintf' has been explicitly marked deprecated here __deprecated_msg("This function is provided for compatibility reasons only. Due to security concerns inherent in the design of sprintf(3), it is highly recommended that you use snprintf(3) instead.") ^ /Library/Developer/CommandLineTools/SDKs/MacOSX.sdk/usr/include/sys/cdefs.h:215:48: note: expanded from macro '__deprecated_msg' #define __deprecated_msg(_msg) __attribute__((__deprecated__(_msg))) ^ 3 warnings generated. clang++ -arch arm64 -std=gnu++17 -I"/Library/Frameworks/R.framework/Resources/include" -DNDEBUG -I'/Library/Frameworks/R.framework/Versions/4.2-arm64/Resources/library/Rcpp/include' -I'/Library/Frameworks/R.framework/Versions/4.2-arm64/Resources/library/BH/include' -I'/Library/Frameworks/R.framework/Versions/4.2-arm64/Resources/library/RcppParallel/include' -I/opt/R/arm64/include -fPIC -falign-functions=64 -Wall -g -O2 -c extractQUBIC2.cpp -o extractQUBIC2.o In file included from extractQUBIC2.cpp:2: In file included from /Library/Frameworks/R.framework/Versions/4.2-arm64/Resources/library/Rcpp/include/Rcpp.h:27: In file included from /Library/Frameworks/R.framework/Versions/4.2-arm64/Resources/library/Rcpp/include/RcppCommon.h:168: /Library/Frameworks/R.framework/Versions/4.2-arm64/Resources/library/Rcpp/include/Rcpp/internal/r_coerce.h:255:7: warning: 'sprintf' is deprecated: This function is provided for compatibility reasons only. Due to security concerns inherent in the design of sprintf(3), it is highly recommended that you use snprintf(3) instead. [-Wdeprecated-declarations] ::sprintf(buff, "%02x", from); ^ /Library/Developer/CommandLineTools/SDKs/MacOSX.sdk/usr/include/stdio.h:188:1: note: 'sprintf' has been explicitly marked deprecated here __deprecated_msg("This function is provided for compatibility reasons only. Due to security concerns inherent in the design of sprintf(3), it is highly recommended that you use snprintf(3) instead.") ^ /Library/Developer/CommandLineTools/SDKs/MacOSX.sdk/usr/include/sys/cdefs.h:215:48: note: expanded from macro '__deprecated_msg' #define __deprecated_msg(_msg) __attribute__((__deprecated__(_msg))) ^ In file included from extractQUBIC2.cpp:7: In file included from /Library/Frameworks/R.framework/Versions/4.2-arm64/Resources/library/BH/include/boost/algorithm/string.hpp:23: In file included from /Library/Frameworks/R.framework/Versions/4.2-arm64/Resources/library/BH/include/boost/algorithm/string/split.hpp:16: In file included from /Library/Frameworks/R.framework/Versions/4.2-arm64/Resources/library/BH/include/boost/algorithm/string/iter_find.hpp:27: In file included from /Library/Frameworks/R.framework/Versions/4.2-arm64/Resources/library/BH/include/boost/algorithm/string/find_iterator.hpp:24: In file included from /Library/Frameworks/R.framework/Versions/4.2-arm64/Resources/library/BH/include/boost/algorithm/string/detail/find_iterator.hpp:18: In file included from /Library/Frameworks/R.framework/Versions/4.2-arm64/Resources/library/BH/include/boost/function.hpp:30: In file included from /Library/Frameworks/R.framework/Versions/4.2-arm64/Resources/library/BH/include/boost/function/detail/prologue.hpp:15: In file included from /Library/Frameworks/R.framework/Versions/4.2-arm64/Resources/library/BH/include/boost/throw_exception.hpp:24: /Library/Frameworks/R.framework/Versions/4.2-arm64/Resources/library/BH/include/boost/assert/source_location.hpp:75:14: warning: 'sprintf' is deprecated: This function is provided for compatibility reasons only. Due to security concerns inherent in the design of sprintf(3), it is highly recommended that you use snprintf(3) instead. [-Wdeprecated-declarations] std::sprintf( buffer, ":%ld", static_cast( line() ) ); ^ /Library/Developer/CommandLineTools/SDKs/MacOSX.sdk/usr/include/stdio.h:188:1: note: 'sprintf' has been explicitly marked deprecated here __deprecated_msg("This function is provided for compatibility reasons only. Due to security concerns inherent in the design of sprintf(3), it is highly recommended that you use snprintf(3) instead.") ^ /Library/Developer/CommandLineTools/SDKs/MacOSX.sdk/usr/include/sys/cdefs.h:215:48: note: expanded from macro '__deprecated_msg' #define __deprecated_msg(_msg) __attribute__((__deprecated__(_msg))) ^ In file included from extractQUBIC2.cpp:7: In file included from /Library/Frameworks/R.framework/Versions/4.2-arm64/Resources/library/BH/include/boost/algorithm/string.hpp:23: In file included from /Library/Frameworks/R.framework/Versions/4.2-arm64/Resources/library/BH/include/boost/algorithm/string/split.hpp:16: In file included from /Library/Frameworks/R.framework/Versions/4.2-arm64/Resources/library/BH/include/boost/algorithm/string/iter_find.hpp:27: In file included from /Library/Frameworks/R.framework/Versions/4.2-arm64/Resources/library/BH/include/boost/algorithm/string/find_iterator.hpp:24: In file included from /Library/Frameworks/R.framework/Versions/4.2-arm64/Resources/library/BH/include/boost/algorithm/string/detail/find_iterator.hpp:18: In file included from /Library/Frameworks/R.framework/Versions/4.2-arm64/Resources/library/BH/include/boost/function.hpp:30: In file included from /Library/Frameworks/R.framework/Versions/4.2-arm64/Resources/library/BH/include/boost/function/detail/prologue.hpp:15: In file included from /Library/Frameworks/R.framework/Versions/4.2-arm64/Resources/library/BH/include/boost/throw_exception.hpp:24: /Library/Frameworks/R.framework/Versions/4.2-arm64/Resources/library/BH/include/boost/assert/source_location.hpp:80:18: warning: 'sprintf' is deprecated: This function is provided for compatibility reasons only. Due to security concerns inherent in the design of sprintf(3), it is highly recommended that you use snprintf(3) instead. [-Wdeprecated-declarations] std::sprintf( buffer, ":%ld", static_cast( column() ) ); ^ /Library/Developer/CommandLineTools/SDKs/MacOSX.sdk/usr/include/stdio.h:188:1: note: 'sprintf' has been explicitly marked deprecated here __deprecated_msg("This function is provided for compatibility reasons only. Due to security concerns inherent in the design of sprintf(3), it is highly recommended that you use snprintf(3) instead.") ^ /Library/Developer/CommandLineTools/SDKs/MacOSX.sdk/usr/include/sys/cdefs.h:215:48: note: expanded from macro '__deprecated_msg' #define __deprecated_msg(_msg) __attribute__((__deprecated__(_msg))) ^ 3 warnings generated. clang++ -arch arm64 -std=gnu++17 -I"/Library/Frameworks/R.framework/Resources/include" -DNDEBUG -I'/Library/Frameworks/R.framework/Versions/4.2-arm64/Resources/library/Rcpp/include' -I'/Library/Frameworks/R.framework/Versions/4.2-arm64/Resources/library/BH/include' -I'/Library/Frameworks/R.framework/Versions/4.2-arm64/Resources/library/RcppParallel/include' -I/opt/R/arm64/include -fPIC -falign-functions=64 -Wall -g -O2 -c full_graph.cpp -o full_graph.o In file included from full_graph.cpp:1: In file included from /Library/Frameworks/R.framework/Versions/4.2-arm64/Resources/library/Rcpp/include/Rcpp.h:27: In file included from /Library/Frameworks/R.framework/Versions/4.2-arm64/Resources/library/Rcpp/include/RcppCommon.h:168: /Library/Frameworks/R.framework/Versions/4.2-arm64/Resources/library/Rcpp/include/Rcpp/internal/r_coerce.h:255:7: warning: 'sprintf' is deprecated: This function is provided for compatibility reasons only. Due to security concerns inherent in the design of sprintf(3), it is highly recommended that you use snprintf(3) instead. [-Wdeprecated-declarations] ::sprintf(buff, "%02x", from); ^ /Library/Developer/CommandLineTools/SDKs/MacOSX.sdk/usr/include/stdio.h:188:1: note: 'sprintf' has been explicitly marked deprecated here __deprecated_msg("This function is provided for compatibility reasons only. Due to security concerns inherent in the design of sprintf(3), it is highly recommended that you use snprintf(3) instead.") ^ /Library/Developer/CommandLineTools/SDKs/MacOSX.sdk/usr/include/sys/cdefs.h:215:48: note: expanded from macro '__deprecated_msg' #define __deprecated_msg(_msg) __attribute__((__deprecated__(_msg))) ^ 1 warning generated. clang++ -arch arm64 -std=gnu++17 -I"/Library/Frameworks/R.framework/Resources/include" -DNDEBUG -I'/Library/Frameworks/R.framework/Versions/4.2-arm64/Resources/library/Rcpp/include' -I'/Library/Frameworks/R.framework/Versions/4.2-arm64/Resources/library/BH/include' -I'/Library/Frameworks/R.framework/Versions/4.2-arm64/Resources/library/RcppParallel/include' -I/opt/R/arm64/include -fPIC -falign-functions=64 -Wall -g -O2 -c misc.cpp -o misc.o In file included from misc.cpp:1: In file included from /Library/Frameworks/R.framework/Versions/4.2-arm64/Resources/library/Rcpp/include/Rcpp.h:27: In file included from /Library/Frameworks/R.framework/Versions/4.2-arm64/Resources/library/Rcpp/include/RcppCommon.h:168: /Library/Frameworks/R.framework/Versions/4.2-arm64/Resources/library/Rcpp/include/Rcpp/internal/r_coerce.h:255:7: warning: 'sprintf' is deprecated: This function is provided for compatibility reasons only. Due to security concerns inherent in the design of sprintf(3), it is highly recommended that you use snprintf(3) instead. [-Wdeprecated-declarations] ::sprintf(buff, "%02x", from); ^ /Library/Developer/CommandLineTools/SDKs/MacOSX.sdk/usr/include/stdio.h:188:1: note: 'sprintf' has been explicitly marked deprecated here __deprecated_msg("This function is provided for compatibility reasons only. Due to security concerns inherent in the design of sprintf(3), it is highly recommended that you use snprintf(3) instead.") ^ /Library/Developer/CommandLineTools/SDKs/MacOSX.sdk/usr/include/sys/cdefs.h:215:48: note: expanded from macro '__deprecated_msg' #define __deprecated_msg(_msg) __attribute__((__deprecated__(_msg))) ^ 1 warning generated. clang++ -arch arm64 -std=gnu++17 -I"/Library/Frameworks/R.framework/Resources/include" -DNDEBUG -I'/Library/Frameworks/R.framework/Versions/4.2-arm64/Resources/library/Rcpp/include' -I'/Library/Frameworks/R.framework/Versions/4.2-arm64/Resources/library/BH/include' -I'/Library/Frameworks/R.framework/Versions/4.2-arm64/Resources/library/RcppParallel/include' -I/opt/R/arm64/include -fPIC -falign-functions=64 -Wall -g -O2 -c network_edge_strength.cpp -o network_edge_strength.o In file included from network_edge_strength.cpp:3: In file included from /Library/Frameworks/R.framework/Versions/4.2-arm64/Resources/library/Rcpp/include/Rcpp.h:27: In file included from /Library/Frameworks/R.framework/Versions/4.2-arm64/Resources/library/Rcpp/include/RcppCommon.h:168: /Library/Frameworks/R.framework/Versions/4.2-arm64/Resources/library/Rcpp/include/Rcpp/internal/r_coerce.h:255:7: warning: 'sprintf' is deprecated: This function is provided for compatibility reasons only. Due to security concerns inherent in the design of sprintf(3), it is highly recommended that you use snprintf(3) instead. [-Wdeprecated-declarations] ::sprintf(buff, "%02x", from); ^ /Library/Developer/CommandLineTools/SDKs/MacOSX.sdk/usr/include/stdio.h:188:1: note: 'sprintf' has been explicitly marked deprecated here __deprecated_msg("This function is provided for compatibility reasons only. Due to security concerns inherent in the design of sprintf(3), it is highly recommended that you use snprintf(3) instead.") ^ /Library/Developer/CommandLineTools/SDKs/MacOSX.sdk/usr/include/sys/cdefs.h:215:48: note: expanded from macro '__deprecated_msg' #define __deprecated_msg(_msg) __attribute__((__deprecated__(_msg))) ^ 1 warning generated. clang++ -arch arm64 -std=gnu++17 -I"/Library/Frameworks/R.framework/Resources/include" -DNDEBUG -I'/Library/Frameworks/R.framework/Versions/4.2-arm64/Resources/library/Rcpp/include' -I'/Library/Frameworks/R.framework/Versions/4.2-arm64/Resources/library/BH/include' -I'/Library/Frameworks/R.framework/Versions/4.2-arm64/Resources/library/RcppParallel/include' -I/opt/R/arm64/include -fPIC -falign-functions=64 -Wall -g -O2 -c sample_biclusters.cpp -o sample_biclusters.o In file included from sample_biclusters.cpp:1: In file included from /Library/Frameworks/R.framework/Versions/4.2-arm64/Resources/library/Rcpp/include/Rcpp.h:27: In file included from /Library/Frameworks/R.framework/Versions/4.2-arm64/Resources/library/Rcpp/include/RcppCommon.h:168: /Library/Frameworks/R.framework/Versions/4.2-arm64/Resources/library/Rcpp/include/Rcpp/internal/r_coerce.h:255:7: warning: 'sprintf' is deprecated: This function is provided for compatibility reasons only. Due to security concerns inherent in the design of sprintf(3), it is highly recommended that you use snprintf(3) instead. [-Wdeprecated-declarations] ::sprintf(buff, "%02x", from); ^ /Library/Developer/CommandLineTools/SDKs/MacOSX.sdk/usr/include/stdio.h:188:1: note: 'sprintf' has been explicitly marked deprecated here __deprecated_msg("This function is provided for compatibility reasons only. Due to security concerns inherent in the design of sprintf(3), it is highly recommended that you use snprintf(3) instead.") ^ /Library/Developer/CommandLineTools/SDKs/MacOSX.sdk/usr/include/sys/cdefs.h:215:48: note: expanded from macro '__deprecated_msg' #define __deprecated_msg(_msg) __attribute__((__deprecated__(_msg))) ^ 1 warning generated. clang++ -arch arm64 -std=gnu++17 -I"/Library/Frameworks/R.framework/Resources/include" -DNDEBUG -I'/Library/Frameworks/R.framework/Versions/4.2-arm64/Resources/library/Rcpp/include' -I'/Library/Frameworks/R.framework/Versions/4.2-arm64/Resources/library/BH/include' -I'/Library/Frameworks/R.framework/Versions/4.2-arm64/Resources/library/RcppParallel/include' -I/opt/R/arm64/include -fPIC -falign-functions=64 -Wall -g -O2 -c write_matrix.cpp -o write_matrix.o In file included from write_matrix.cpp:1: In file included from /Library/Frameworks/R.framework/Versions/4.2-arm64/Resources/library/Rcpp/include/Rcpp.h:27: In file included from /Library/Frameworks/R.framework/Versions/4.2-arm64/Resources/library/Rcpp/include/RcppCommon.h:168: /Library/Frameworks/R.framework/Versions/4.2-arm64/Resources/library/Rcpp/include/Rcpp/internal/r_coerce.h:255:7: warning: 'sprintf' is deprecated: This function is provided for compatibility reasons only. Due to security concerns inherent in the design of sprintf(3), it is highly recommended that you use snprintf(3) instead. [-Wdeprecated-declarations] ::sprintf(buff, "%02x", from); ^ /Library/Developer/CommandLineTools/SDKs/MacOSX.sdk/usr/include/stdio.h:188:1: note: 'sprintf' has been explicitly marked deprecated here __deprecated_msg("This function is provided for compatibility reasons only. Due to security concerns inherent in the design of sprintf(3), it is highly recommended that you use snprintf(3) instead.") ^ /Library/Developer/CommandLineTools/SDKs/MacOSX.sdk/usr/include/sys/cdefs.h:215:48: note: expanded from macro '__deprecated_msg' #define __deprecated_msg(_msg) __attribute__((__deprecated__(_msg))) ^ 1 warning generated. clang++ -arch arm64 -std=gnu++17 -dynamiclib -Wl,-headerpad_max_install_names -undefined dynamic_lookup -single_module -multiply_defined suppress -L/Library/Frameworks/R.framework/Resources/lib -L/opt/R/arm64/lib -o mosbi.so RcppExports.o attr_graph.o attributeConnector.o attribute_overlap.o bicluster_methods.o boost_graph.o boost_write.o distance_matrix.o extractBF.o extractQUBIC2.o full_graph.o misc.o network_edge_strength.o sample_biclusters.o write_matrix.o -F/Library/Frameworks/R.framework/.. -framework R -Wl,-framework -Wl,CoreFoundation ld: warning: -undefined dynamic_lookup may not work with chained fixups installing to /Library/Frameworks/R.framework/Versions/4.2-arm64/Resources/library/00LOCK-mosbi/00new/mosbi/libs ** R ** data ** inst ** byte-compile and prepare package for lazy loading ** help *** installing help indices ** building package indices ** installing vignettes ** testing if installed package can be loaded from temporary location ** checking absolute paths in shared objects and dynamic libraries ** testing if installed package can be loaded from final location ** testing if installed package keeps a record of temporary installation path * DONE (mosbi)