git_url: https://git.bioconductor.org/packages/motifcounter
git_branch: RELEASE_3_16
git_last_commit: 0144072
git_last_commit_date: 2022-11-01 11:15:23 -0400 (Tue, 01 Nov 2022)
Package: motifcounter
Version: 1.22.0
Maintainer: Wolfgang Kopp
MaintainerEmail: wolfgang.kopp at mdc-berlin.de