Package: msmsEDA Version: 1.36.0 Command: /Library/Frameworks/R.framework/Resources/bin/R CMD build --keep-empty-dirs --no-resave-data msmsEDA StartedAt: 2023-04-17 17:05:20 -0400 (Mon, 17 Apr 2023) EndedAt: 2023-04-17 17:06:10 -0400 (Mon, 17 Apr 2023) EllapsedTime: 50.2 seconds RetCode: 0 Status: OK PackageFile: msmsEDA_1.36.0.tar.gz PackageFileSize: 439.2 KiB