##############################################################################
##############################################################################
###
### Running command:
###
###   rm -rf mumosa.buildbin-libdir && mkdir mumosa.buildbin-libdir && /Users/biocbuild/BBS/utils/build-universal.sh mumosa_1.6.0.tar.gz /Library/Frameworks/R.framework/Resources/bin/R mumosa.buildbin-libdir
###
##############################################################################
##############################################################################


>>>>>>> 
>>>>>>> INSTALLATION WITH 'R CMD INSTALL --preclean --no-multiarch --library=mumosa.buildbin-libdir mumosa_1.6.0.tar.gz'
>>>>>>> 

* installing *source* package ‘mumosa’ ...
** using staged installation
** R
** inst
** byte-compile and prepare package for lazy loading
** help
*** installing help indices
** building package indices
** installing vignettes
** testing if installed package can be loaded from temporary location
** testing if installed package can be loaded from final location
** testing if installed package keeps a record of temporary installation path
* DONE (mumosa)