Package: ndexr Version: 1.20.1 Command: rm -rf ndexr.buildbin-libdir && mkdir ndexr.buildbin-libdir && /Users/biocbuild/BBS/utils/build-universal.sh ndexr_1.20.1.tar.gz /Library/Frameworks/R.framework/Resources/bin/R ndexr.buildbin-libdir StartedAt: 2023-04-18 17:50:03 -0400 (Tue, 18 Apr 2023) EndedAt: 2023-04-18 17:50:14 -0400 (Tue, 18 Apr 2023) EllapsedTime: 11.0 seconds RetCode: 0 Status: OK PackageFile: ndexr_1.20.1.tgz PackageFileSize: 681.4 KiB