Package: netOmics Version: 1.4.0 Command: /Library/Frameworks/R.framework/Resources/bin/R CMD build --keep-empty-dirs --no-resave-data netOmics StartedAt: 2023-04-17 18:46:13 -0400 (Mon, 17 Apr 2023) EndedAt: 2023-04-17 18:47:35 -0400 (Mon, 17 Apr 2023) EllapsedTime: 81.8 seconds RetCode: 1 Status: ERROR PackageFile: None PackageFileSize: NA