Package: netOmics Version: 1.4.0 Command: /Library/Frameworks/R.framework/Resources/bin/R CMD INSTALL netOmics StartedAt: 2023-04-16 17:30:24 -0400 (Sun, 16 Apr 2023) EndedAt: 2023-04-16 17:31:03 -0400 (Sun, 16 Apr 2023) EllapsedTime: 39.0 seconds RetCode: 0 Status: OK