Package: nuCpos Version: 1.16.3 Command: rm -rf nuCpos.buildbin-libdir && mkdir nuCpos.buildbin-libdir && /Users/biocbuild/BBS/utils/build-universal.sh nuCpos_1.16.3.tar.gz /Library/Frameworks/R.framework/Resources/bin/R nuCpos.buildbin-libdir StartedAt: 2023-04-18 17:56:00 -0400 (Tue, 18 Apr 2023) EndedAt: 2023-04-18 17:56:49 -0400 (Tue, 18 Apr 2023) EllapsedTime: 48.9 seconds RetCode: 0 Status: OK PackageFile: nuCpos_1.16.3.tgz PackageFileSize: 1.203 MiB