Package: nullranges Version: 1.4.0 Command: rm -rf nullranges.buildbin-libdir && mkdir nullranges.buildbin-libdir && /Users/biocbuild/BBS/utils/build-universal.sh nullranges_1.4.0.tar.gz /Library/Frameworks/R.framework/Resources/bin/R nullranges.buildbin-libdir StartedAt: 2023-04-18 17:56:15 -0400 (Tue, 18 Apr 2023) EndedAt: 2023-04-18 17:57:45 -0400 (Tue, 18 Apr 2023) EllapsedTime: 89.2 seconds RetCode: 0 Status: OK PackageFile: nullranges_1.4.0.tgz PackageFileSize: 3.798 MiB