Package: panp Version: 1.68.0 Command: /Library/Frameworks/R.framework/Resources/bin/R CMD build --keep-empty-dirs --no-resave-data panp StartedAt: 2023-04-17 20:46:39 -0400 (Mon, 17 Apr 2023) EndedAt: 2023-04-17 20:47:14 -0400 (Mon, 17 Apr 2023) EllapsedTime: 35.3 seconds RetCode: 0 Status: OK PackageFile: panp_1.68.0.tar.gz PackageFileSize: 670.5 KiB