git_url: https://git.bioconductor.org/packages/pareg git_branch: RELEASE_3_16 git_last_commit: 1b98e91 git_last_commit_date: 2022-11-01 11:26:50 -0400 (Tue, 01 Nov 2022) Package: pareg Version: 1.2.0 Maintainer: Kim Philipp Jablonski MaintainerEmail: kim.philipp.jablonski at gmail.com