Package: paxtoolsr Version: 1.32.0 Command: /Library/Frameworks/R.framework/Resources/bin/R CMD INSTALL paxtoolsr StartedAt: 2023-04-16 15:57:30 -0400 (Sun, 16 Apr 2023) EndedAt: 2023-04-16 15:57:44 -0400 (Sun, 16 Apr 2023) EllapsedTime: 14.3 seconds RetCode: 0 Status: OK