Package: pepStat Version: 1.32.0 Command: rm -rf pepStat.buildbin-libdir && mkdir pepStat.buildbin-libdir && /Users/biocbuild/BBS/utils/build-universal.sh pepStat_1.32.0.tar.gz /Library/Frameworks/R.framework/Resources/bin/R pepStat.buildbin-libdir StartedAt: 2023-04-18 18:11:13 -0400 (Tue, 18 Apr 2023) EndedAt: 2023-04-18 18:12:02 -0400 (Tue, 18 Apr 2023) EllapsedTime: 48.9 seconds RetCode: 0 Status: OK PackageFile: pepStat_1.32.0.tgz PackageFileSize: 731.9 KiB