Package: phenopath Version: 1.22.0 Command: rm -rf phenopath.buildbin-libdir && mkdir phenopath.buildbin-libdir && /Users/biocbuild/BBS/utils/build-universal.sh phenopath_1.22.0.tar.gz /Library/Frameworks/R.framework/Resources/bin/R phenopath.buildbin-libdir StartedAt: 2023-04-18 18:12:45 -0400 (Tue, 18 Apr 2023) EndedAt: 2023-04-18 18:14:03 -0400 (Tue, 18 Apr 2023) EllapsedTime: 77.5 seconds RetCode: 0 Status: OK PackageFile: phenopath_1.22.0.tgz PackageFileSize: 980.7 KiB