Package: phenopath Version: 1.22.0 Command: /Library/Frameworks/R.framework/Resources/bin/R CMD INSTALL phenopath StartedAt: 2023-04-16 15:01:54 -0400 (Sun, 16 Apr 2023) EndedAt: 2023-04-16 15:02:46 -0400 (Sun, 16 Apr 2023) EllapsedTime: 52.7 seconds RetCode: 0 Status: OK