Package: pkgDepTools Version: 1.64.0 Command: rm -rf pkgDepTools.buildbin-libdir && mkdir pkgDepTools.buildbin-libdir && /Users/biocbuild/BBS/utils/build-universal.sh pkgDepTools_1.64.0.tar.gz /Library/Frameworks/R.framework/Resources/bin/R pkgDepTools.buildbin-libdir StartedAt: 2023-04-18 18:16:11 -0400 (Tue, 18 Apr 2023) EndedAt: 2023-04-18 18:16:21 -0400 (Tue, 18 Apr 2023) EllapsedTime: 10.0 seconds RetCode: 0 Status: OK PackageFile: pkgDepTools_1.64.0.tgz PackageFileSize: 269.6 KiB