Package: pkgDepTools Version: 1.64.0 Command: /Library/Frameworks/R.framework/Resources/bin/R CMD INSTALL pkgDepTools StartedAt: 2023-04-16 14:21:45 -0400 (Sun, 16 Apr 2023) EndedAt: 2023-04-16 14:21:52 -0400 (Sun, 16 Apr 2023) EllapsedTime: 6.1 seconds RetCode: 0 Status: OK